BEGIN:VCALENDAR
VERSION:2.0
PRODID:-//eventon.com NONSGML v1.0//EN
BEGIN:VEVENT
UID:69ecc046b1c98
DTSTAMP:20260425T152318
DTSTART:20260612T183000Z
DTEND:20260613T183000Z
LOCATION:Phare Citadelle\,  Strasbourg 13 Rue de Nantes\,  67100 Strasbourg
SUMMARY:Rhapsodies bohémiennes sous la direction de Catherine Bolzinger
DESCRIPTION: Brahms\,  Bartók\,  jazz manouche\,  Freddie Mercury Vendredi 12 et samedi 13 juin 18h30 - Prélude Voix de Stras' 20h30 - Concert Choeur philharmonique de Strasbourg Inga Kazantseva\,  piano Marcel Loeffler Quartet Catherine Bolzinger\,  direction [button link="https://www.helloasso.com/associations/choeur-philharmonique-de-strasbourg/evenements/choeur-philharmonique-de-strasbourg-rhapsodies-bohemiennes-1" color="orange" newwindow="yes"] Billetterie en ligne[/button] &nbsp;
END:VEVENT
END:VCALENDAR