BEGIN:VCALENDAR
VERSION:2.0
PRODID:-//eventon.com NONSGML v1.0//EN
BEGIN:VEVENT
UID:69ecc0472c8ea
DTSTAMP:20260425T152319
DTSTART:20260513T180000Z
DTEND:20260513T215000Z
LOCATION:Temple Neuf Place du temple neuf 
SUMMARY:Rhapsodies bohémiennes - répétition commentée
DESCRIPTION: À l’occasion de la prochaine répétition commentée du Choeur philharmonique de Strasbourg\,  Catherine Bolzinger vous emmènera dans les détours de ses Rhapsodies Bohémiennes\,  anecdotes à la clé et démonstrations live par les 60 choristes. Traditionnelle cerise de la soirée\,  vous serez invité(e) à rejoindre les choristes sur le plateau pour[..]
END:VEVENT
END:VCALENDAR